BEGIN:VCALENDAR
VERSION:2.0
PRODID:-//Business Information Point - ECPv6.15.18//NONSGML v1.0//EN
CALSCALE:GREGORIAN
METHOD:PUBLISH
X-WR-CALNAME:Business Information Point
X-ORIGINAL-URL:https://businessinfopoint.co.uk
X-WR-CALDESC:Events for Business Information Point
REFRESH-INTERVAL;VALUE=DURATION:PT1H
X-Robots-Tag:noindex
X-PUBLISHED-TTL:PT1H
BEGIN:VTIMEZONE
TZID:Europe/London
BEGIN:DAYLIGHT
TZOFFSETFROM:+0000
TZOFFSETTO:+0100
TZNAME:BST
DTSTART:20250330T010000
END:DAYLIGHT
BEGIN:STANDARD
TZOFFSETFROM:+0100
TZOFFSETTO:+0000
TZNAME:GMT
DTSTART:20251026T010000
END:STANDARD
BEGIN:DAYLIGHT
TZOFFSETFROM:+0000
TZOFFSETTO:+0100
TZNAME:BST
DTSTART:20260329T010000
END:DAYLIGHT
BEGIN:STANDARD
TZOFFSETFROM:+0100
TZOFFSETTO:+0000
TZNAME:GMT
DTSTART:20261025T010000
END:STANDARD
BEGIN:DAYLIGHT
TZOFFSETFROM:+0000
TZOFFSETTO:+0100
TZNAME:BST
DTSTART:20270328T010000
END:DAYLIGHT
BEGIN:STANDARD
TZOFFSETFROM:+0100
TZOFFSETTO:+0000
TZNAME:GMT
DTSTART:20271031T010000
END:STANDARD
END:VTIMEZONE
BEGIN:VEVENT
DTSTART;TZID=Europe/London:20260302T100000
DTEND;TZID=Europe/London:20260302T143000
DTSTAMP:20260421T091849
CREATED:20260114T150131Z
LAST-MODIFIED:20260115T162844Z
UID:10000588-1772445600-1772461800@businessinfopoint.co.uk
SUMMARY:South Hams Tourism Business Symposium
DESCRIPTION:Get your voice heard. For businesses in the tourism industry\, have your say on issues affecting you and help shape future support & funding.\n\n\nTourism is at the heart of the South Hams and West Devon regions. From independently-owned holiday rentals and cafés to hotels and visitor attractions\, the tourism economy supports jobs\, communities and the character of our area. Now is your opportunity to help shape what comes next at this free symposium event. \nBIP are working with South Hams District and West Devon Borough Councils to support their in-depth study of the visitor economies in both areas. So if you run a local business operating in the tourism industry then we would like to invite you to have your voice heard and share your thoughts\, issues and suggestions. \nThe aim is simple but powerful: to understand what’s really happening on the ground\, identify the biggest barriers facing tourism businesses\, and ensure future investment and support genuinely meets local needs. \nAlready supportive of their visitor economies through UK Shared Prosperity Fund (UKSPF) initiatives like investment for small businesses and promotion\, they want to go further by highlighting the most significant barriers to the sector and consulting on how future funding can be shaped to better support and enhance the economic situation of the local sectors. \nAttendees will be asked to participate in two breakout sessions\, allowing you to share your feedback and suggestions. On registration you will be asked to choose two out of the three options below: \n\nThe impact of recruitment and seasonality in tourism – facilitated by DWP\nIs Tourism being held back in Devon – facilitated by LVEP/Visit Devon\nSupporting the future of tourism – facilitated by Visit England\n\nWe would also like you to participate in a short survey which will be sent to you on registration. \nRefreshments and a light lunch will be provided free of charge and there will also be an opportunity to network with other local business owners and meet a range of suppliers who will be exhibiting. \nThis is a fantastic opportunity to have your say and help strengthen and grow the local tourism sector.
URL:https://businessinfopoint.co.uk/workshops/south-hams-tourism-business-symposium/
LOCATION:Follaton House\, Plymouth Road\, Totnes\, Devon\, TQ9 5NE\, United Kingdom
CATEGORIES:Networking
ATTACH;FMTTYPE=image/jpeg:https://businessinfopoint.co.uk/wp-content/uploads/2026/01/836f81aacaeea4bb346473fd7f5e1024-EuW1Rv.tmp_.jpg
END:VEVENT
BEGIN:VEVENT
DTSTART;TZID=Europe/London:20260316T083000
DTEND;TZID=Europe/London:20260316T103000
DTSTAMP:20260421T091849
CREATED:20260218T115903Z
LAST-MODIFIED:20260313T093832Z
UID:10000603-1773649800-1773657000@businessinfopoint.co.uk
SUMMARY:Bacon Butties & Business: Future-Proofing Construction in West Devon
DESCRIPTION:Join us at the A30 Business Centre\, Okehampton\, for a free informal breakfast session.\n\n\nJoin us for bacon butties\, coffee and straight-talking insight into the future of construction. \nWe’ll explore what “future-proofing” really means for small construction businesses — and what it means for you\, right now. \nOn the agenda: \n\nWhat rising energy efficiency standards mean for your projects\nHow changing client expectations are shaping demand\nThe growing opportunity in retrofit and low-carbon work\nSkills gaps\, workforce changes and what’s coming next\nLocal training\, funding and business support available to you\n\nHear short\, practical insights from industry experts — with no jargon and no hard sell. \nThis is a relaxed\, informal session designed to: \n\nHelp you stay competitive\nIdentify new opportunities\nWin more work\nPrepare for changes already underway\nConnect with others in the local construction sector\n\nJust useful information\, good conversation and a chance to build valuable connections. \n  \nThe Business Support for Construction programme is fully funded by West Devon Borough Council and South Hams District Council through the UK Government’s Shared Prosperity Fund. Watch the video that tells you more about Business Support for Construction here:\nhttps://www.youtube.com/watch?v=UAXFpC5we-U&list=PL5Q_qeqK1hzqOGt6Vw5Zqqls3zaN47Mnt&index=7&t=1s \n\n\n 
URL:https://businessinfopoint.co.uk/workshops/bacon-butties-business-future-proofing-construction-in-west-devon/
LOCATION:A30 Business Centre\, Higher Stockley Mead\, Higher Stockley Mead\, Okehampton\, Devon\, EX20 1BG\, United Kingdom
CATEGORIES:Networking
ATTACH;FMTTYPE=image/jpeg:https://businessinfopoint.co.uk/wp-content/uploads/2026/02/5ef92049c42bbcf227ba52689c4959e0-kPCurW.tmp_.jpg
END:VEVENT
END:VCALENDAR